BEGIN:VCALENDAR
VERSION:2.0
PRODID:-//Heidehof - ECPv6.10.0//NONSGML v1.0//EN
CALSCALE:GREGORIAN
METHOD:PUBLISH
X-WR-CALNAME:Heidehof
X-ORIGINAL-URL:https://reitstallheidehof-fds.de
X-WR-CALDESC:Veranstaltungen für Heidehof
REFRESH-INTERVAL;VALUE=DURATION:PT1H
X-Robots-Tag:noindex
X-PUBLISHED-TTL:PT1H
BEGIN:VTIMEZONE
TZID:Europe/Berlin
BEGIN:DAYLIGHT
TZOFFSETFROM:+0100
TZOFFSETTO:+0200
TZNAME:CEST
DTSTART:20240331T010000
END:DAYLIGHT
BEGIN:STANDARD
TZOFFSETFROM:+0200
TZOFFSETTO:+0100
TZNAME:CET
DTSTART:20241027T010000
END:STANDARD
END:VTIMEZONE
BEGIN:VEVENT
DTSTART;VALUE=DATE:20240224
DTEND;VALUE=DATE:20240226
DTSTAMP:20260423T033818
CREATED:20231028T144126Z
LAST-MODIFIED:20231028T144126Z
UID:4160-1708732800-1708905599@reitstallheidehof-fds.de
SUMMARY:Reitturnier in Eberhardszell
DESCRIPTION:Turnier findt in der Halle statt- Breitsportliche Veranstaltung – Voltigieren
URL:https://reitstallheidehof-fds.de/turnier-bw/reitturnier-in-eberhardszell/
LOCATION:Reit- und Fahrverein Eberhardzell e.V.\, Krummen 26\, Eberhardzell\, 88436
END:VEVENT
END:VCALENDAR