BEGIN:VCALENDAR
VERSION:2.0
PRODID:-//Heidehof - ECPv6.10.0//NONSGML v1.0//EN
CALSCALE:GREGORIAN
METHOD:PUBLISH
X-WR-CALNAME:Heidehof
X-ORIGINAL-URL:https://reitstallheidehof-fds.de
X-WR-CALDESC:Veranstaltungen für Heidehof
REFRESH-INTERVAL;VALUE=DURATION:PT1H
X-Robots-Tag:noindex
X-PUBLISHED-TTL:PT1H
BEGIN:VTIMEZONE
TZID:Europe/Berlin
BEGIN:DAYLIGHT
TZOFFSETFROM:+0100
TZOFFSETTO:+0200
TZNAME:CEST
DTSTART:20230326T010000
END:DAYLIGHT
BEGIN:STANDARD
TZOFFSETFROM:+0200
TZOFFSETTO:+0100
TZNAME:CET
DTSTART:20231029T010000
END:STANDARD
END:VTIMEZONE
BEGIN:VEVENT
DTSTART;VALUE=DATE:20231028
DTEND;VALUE=DATE:20231030
DTSTAMP:20260422T120926
CREATED:20231020T104005Z
LAST-MODIFIED:20231020T104046Z
UID:3121-1698451200-1698623999@reitstallheidehof-fds.de
SUMMARY:Springturnier bis Klasse S - Reit- und Fahrverein Schwendi e. V.
DESCRIPTION:Am 28. und 29. Oktober 2023 findet das große Springturnier bis zur Klasse S in Schwendi statt.
URL:https://reitstallheidehof-fds.de/turnier-bw/springturnier-bis-klasse-s-reit-und-fahrverein-schwendi-e-v/
LOCATION:Schwendi\, Reit- und Fahrverein Schwendi e. V. Schochengraben 2\, Schwendi\, BW\, 88477
END:VEVENT
END:VCALENDAR