BEGIN:VCALENDAR
VERSION:2.0
PRODID:-//Heidehof - ECPv6.10.0//NONSGML v1.0//EN
CALSCALE:GREGORIAN
METHOD:PUBLISH
X-WR-CALNAME:Heidehof
X-ORIGINAL-URL:https://reitstallheidehof-fds.de
X-WR-CALDESC:Veranstaltungen für Heidehof
REFRESH-INTERVAL;VALUE=DURATION:PT1H
X-Robots-Tag:noindex
X-PUBLISHED-TTL:PT1H
BEGIN:VTIMEZONE
TZID:Europe/Berlin
BEGIN:DAYLIGHT
TZOFFSETFROM:+0100
TZOFFSETTO:+0200
TZNAME:CEST
DTSTART:20240331T010000
END:DAYLIGHT
BEGIN:STANDARD
TZOFFSETFROM:+0200
TZOFFSETTO:+0100
TZNAME:CET
DTSTART:20241027T010000
END:STANDARD
END:VTIMEZONE
BEGIN:VEVENT
DTSTART;VALUE=DATE:20240217
DTEND;VALUE=DATE:20240219
DTSTAMP:20260420T000601
CREATED:20231028T142927Z
LAST-MODIFIED:20231028T142927Z
UID:4154-1708128000-1708300799@reitstallheidehof-fds.de
SUMMARY:WBO-Turnier Achern
DESCRIPTION:WBO-Turnier
URL:https://reitstallheidehof-fds.de/turnier-bw/wbo-turnier-achern/
LOCATION:Achern\, Achern\, Badenwürtemberg\, 77855\, Deutschland
END:VEVENT
END:VCALENDAR